BEGIN:VCALENDAR
VERSION:2.0
PRODID:-//ChamberMaster//Event Calendar 2.0//EN
METHOD:PUBLISH
X-PUBLISHED-TTL:P3D
REFRESH-INTERVAL:P3D
CALSCALE:GREGORIAN
BEGIN:VEVENT
DTSTART:20190313T150000Z
DTEND:20190313T170000Z
X-MICROSOFT-CDO-ALLDAYEVENT:FALSE
SUMMARY:5 Things to Know for Developing Great Customer Service
DESCRIPTION:The UGA Small Business Development Center in partnership with the Albany Area Chamber of Commerce\, will provide you with five tips to take your cusotmer service from good to stellar. The tools you learn will be presented in a concise manner so that you can easily apply to your business and your employees.
X-ALT-DESC;FMTTYPE=text/html:The UGA Small Business Development Center in partnership with the Albany Area Chamber of Commerce\, will provide you with five tips to take your cusotmer service from good to stellar. The tools you learn will be presented in a concise manner so that you can easily apply to your business and your employees.
LOCATION:Albany Area Chamber of Commerce 225 W. Broad Ave. Albany\, GA
UID:e.857.14985
SEQUENCE:3
DTSTAMP:20260420T215425Z
URL:http://albanyga.chambermaster.com/events/details/5-things-to-know-for-developing-great-customer-service-14985
END:VEVENT

END:VCALENDAR
