BEGIN:VCALENDAR
VERSION:2.0
PRODID:-//ChamberMaster//Event Calendar 2.0//EN
METHOD:PUBLISH
X-PUBLISHED-TTL:P3D
REFRESH-INTERVAL:P3D
CALSCALE:GREGORIAN
BEGIN:VEVENT
DTSTART:20181009T120000Z
DTEND:20181009T133000Z
X-MICROSOFT-CDO-ALLDAYEVENT:FALSE
SUMMARY:Breakfast at Doublegate
DESCRIPTION:Please join us for Breakfast at Doublegate.
X-ALT-DESC;FMTTYPE=text/html:Please join us for Breakfast at Doublegate.&nbsp\;
LOCATION:Join us at Doublegate for Breakfast. All members are welcomed!
UID:e.857.14855
SEQUENCE:3
DTSTAMP:20260422T035856Z
URL:http://albanyga.chambermaster.com/events/details/breakfast-at-doublegate-14855
END:VEVENT

END:VCALENDAR
