BEGIN:VCALENDAR
VERSION:2.0
PRODID:-//ChamberMaster//Event Calendar 2.0//EN
METHOD:PUBLISH
X-PUBLISHED-TTL:P3D
REFRESH-INTERVAL:P3D
CALSCALE:GREGORIAN
BEGIN:VEVENT
DTSTART:20190310T000000Z
DTEND:20190310T000000Z
X-MICROSOFT-CDO-ALLDAYEVENT:FALSE
SUMMARY:Dueling Pianos
DESCRIPTION:Live Music by The Andrews Brothers | Cash Bar | Hors D'oeuvres| Silent Auction\n\n$50 for advance tickets\, $60 at door
X-ALT-DESC;FMTTYPE=text/html:<span style="background-color: rgb(255\, 255\, 255)\;"><font color="#444444" face="Arial\, Helvetica\, sans-serif"><span style="font-size: 12px\;">Live Music by The Andrews Brothers | Cash Bar | Hors D&#39\;oeuvres| Silent&nbsp\;Auction</span></font></span><br style="bottom: auto\; box-sizing: content-box\; clear: none\; color: rgb(68\, 68\, 68)\; content: normal\; direction: inherit\; display: inline\; empty-cells: show\; float: none\; font-variant-numeric: inherit\; font-variant-east-asian: inherit\; font-stretch: inherit\; font-size: 12px\; font-family: Arial\, Helvetica\, sans-serif\; left: auto\; line-height: inherit\; margin: 0px\; max-height: none\; max-width: none\; min-height: initial\; min-width: initial\; opacity: 1\; outline-offset: 0px\; overflow: visible\; padding: 0px\; position: static\; resize: none\; right: auto\; table-layout: auto\; text-overflow: clip\; top: auto\; vertical-align: baseline\; visibility: inherit\; word-break: inherit\; overflow-wrap: inherit\; z-index: auto\; background: none rgb(255\, 255\, 255)\; border: none\; border-collapse: separate\; border-radius: 0px\; height: auto\; width: auto\;" />\n<span style="color: rgb(68\, 68\, 68)\; font-family: Arial\, Helvetica\, sans-serif\; font-size: 12px\; background-color: rgb(255\, 255\, 255)\;">$50 for advance tickets\, $60 at door</span>
LOCATION:Live Music by The Andrews Brothers | Cash Bar | Hors D'oeuvres| Slient Auction $50 for advance tickets\, $60 at door
UID:e.857.14887
SEQUENCE:3
DTSTAMP:20260423T063744Z
URL:http://albanyga.chambermaster.com/events/details/dueling-pianos-14887
END:VEVENT

END:VCALENDAR
