BEGIN:VCALENDAR
VERSION:2.0
PRODID:-//ChamberMaster//Event Calendar 2.0//EN
METHOD:PUBLISH
X-PUBLISHED-TTL:P3D
REFRESH-INTERVAL:P3D
CALSCALE:GREGORIAN
BEGIN:VEVENT
DTSTART:20170819T140000Z
DTEND:20170820T033000Z
X-MICROSOFT-CDO-ALLDAYEVENT:FALSE
SUMMARY:Epicon
DESCRIPTION:This convention focuses on fandoms such as comic books\, novels\, anime\, art\, cosplay\, film and so much more! ? Established as a meeting place for all geeks/nerds/otakus from the southwest region of GA\, but also the surrounding tri-state area of Georgia\, Florida\, and Alabama\, EPICON has chosen to lay roots in Albany\, GA due to its proximity to these states. This convention is hosted by con-goers and guests that have united under one banner to bring an experience for all to enjoy! EPICON is about everyone in the surrounding area getting together and celebrating their fandoms- it doesn't matter whether you're a Harry Potter fan or you if prefer Star Wars... or are equally enthusiastic about both\, the point of it all is being able to celebrate these things with like-minded people who understand that fandom.
X-ALT-DESC;FMTTYPE=text/html:This convention focuses on fandoms such as comic books\, novels\, anime\, art\, cosplay\, film and so much more! ? Established as a meeting place for all geeks/nerds/otakus from the southwest region of GA\, but also the surrounding tri-state area of Georgia\, Florida\, and Alabama\, EPICON has chosen to lay roots in Albany\, GA due to its proximity to these states. This convention is hosted by con-goers and guests that have united under one banner to bring an experience for all to enjoy! EPICON is about everyone in the surrounding area getting together and celebrating their fandoms- it doesn&rsquo\;t matter whether you&#39\;re a Harry Potter fan or you if prefer Star Wars... or are equally enthusiastic about both\, the point of it all is being able to celebrate these things with like-minded people who understand that fandom.
LOCATION:100 W Oglethorpe Blvd. Albany\, GA 31701
UID:e.857.12870
SEQUENCE:3
DTSTAMP:20260424T074546Z
URL:http://albanyga.chambermaster.com/events/details/epicon-12870
END:VEVENT

END:VCALENDAR
