BEGIN:VCALENDAR
VERSION:2.0
PRODID:-//ChamberMaster//Event Calendar 2.0//EN
METHOD:PUBLISH
X-PUBLISHED-TTL:P3D
REFRESH-INTERVAL:P3D
CALSCALE:GREGORIAN
BEGIN:VEVENT
DTSTART:20190119T150000Z
DTEND:20190119T170000Z
X-MICROSOFT-CDO-ALLDAYEVENT:FALSE
SUMMARY:Leadership Event
DESCRIPTION:January 19\, 2019 \n\nShane Willard\, International Speaker and Bible Teacher\, Will be here to teach us how to "Lead From the Heart". Shane's dynamic teachings have impacted thousands around the world. This Event is Free (DONATIONS ACCEPTED)
X-ALT-DESC;FMTTYPE=text/html:January 19\, 2019&nbsp\;<br />\nShane Willard\, International Speaker and Bible Teacher\, Will be here to teach us how to &quot\;Lead From the Heart&quot\;. Shane&#39\;s dynamic teachings have impacted thousands around the world.&nbsp\;<span style="color: rgb(51\, 51\, 51)\; font-family: sans-serif\, Arial\, Verdana\, &quot\;Trebuchet MS&quot\;\; font-size: 13px\; background-color: rgb(255\, 255\, 255)\;">This Event is Free (DONATIONS ACCEPTED)</span>
LOCATION:Event is from 10:00 a.m. to 12:00 p.m. Register for events on EVENTBRITE\,ALBANY\, GA For more information contact Darla Harms at darla@darlaharmsleadership.com
UID:e.857.14882
SEQUENCE:3
DTSTAMP:20260421T232447Z
URL:http://albanyga.chambermaster.com/events/details/leadership-event-14882
END:VEVENT

END:VCALENDAR
