BEGIN:VCALENDAR
VERSION:2.0
PRODID:-//ChamberMaster//Event Calendar 2.0//EN
METHOD:PUBLISH
X-PUBLISHED-TTL:P3D
REFRESH-INTERVAL:P3D
CALSCALE:GREGORIAN
BEGIN:VEVENT
DTSTART:20181218T163000Z
DTEND:20181218T183000Z
X-MICROSOFT-CDO-ALLDAYEVENT:FALSE
SUMMARY:TRACS Group Lunch N' Learn
DESCRIPTION:You're Invited to Lunch N' Learn hosted by TRACS Group! (Tax Rebate and Credit Specialists.)\n\nDecember 18\, 2018 from 11:30 a.m. to 1:30 p.m.\n\n\n\nFor the fourth year in a row\, Georgia is ranked No.1 out of the 20 top states for doing business. Contributing to the state's success are Georgia's massive corporate tax incentives.  \n\n\n\nTRACS Group\, Inc. is a tax credit firm that specializes in generating Georgia Job Tax Credits for businesses in the State of Georgia. Tax credits are heavily under-utilized. Therefore\, our mission is to educate business owners on how to save money and grow by participating in the Georgia Job Tax Credit Program.   \n\n\n\nJoin us for a free catered lunch and informational session on Georgia's Job Tax Credits and a great opportunity to network with your fellow industry leaders in Albany. \n\n\n\nPresentation by Jeff Kim\, Managing Partner\, and/or Sam Hyon\, Tax Manager at TRACS Group\, Inc.
X-ALT-DESC;FMTTYPE=text/html:You&#39\;re Invited to Lunch N&#39\; Learn hosted by TRACS Group! (Tax Rebate and Credit Specialists.)<br />\nDecember 18\, 2018 from 11:30 a.m. to 1:30 p.m.<br />\n<br />\n<em><span style="color:#263238\;"><span style="font-family:arial\,sans-serif\;"><span style="font-size:10pt\;">For the fourth year in a row\, Georgia is ranked No.1 out of the 20 top states for doing business. Contributing to the state&#39\;s success are Georgia&#39\;s massive corporate tax incentives. &nbsp\;</span></span></span></em><br />\n<br />\n<span style="color:#263238\;"><span style="font-family:arial\,sans-serif\;"><span style="font-size:10pt\;"><em>TRACS Group\, Inc. is a tax credit firm that specializes in generating Georgia Job Tax Credits for businesses in the State of Georgia. Tax credits are heavily under-utilized. Therefore\, our mission is to educate business owners on how to save money and grow by participating in the Georgia Job Tax Credit Program.&nbsp\; &nbsp\;</em><br />\n<br />\nJoin us for a free catered lunch and informational session on Georgia&#39\;s Job Tax Credits and a great opportunity to network with your fellow industry leaders in Albany.&nbsp\;<br />\n<br />\nPresentation by Jeff Kim\, Managing Partner\, and/or Sam Hyon\, Tax Manager at TRACS Group\, Inc.&nbsp\;</span></span></span><br />\n<br />\n&nbsp\;
LOCATION:Albany Area Chamber of Commerce 225 W. Broad Ave. Albany\, Georgia 31701
UID:e.857.14872
SEQUENCE:3
DTSTAMP:20260426T040753Z
URL:http://albanyga.chambermaster.com/events/details/tracs-group-lunch-n-learn-14872
END:VEVENT

END:VCALENDAR
